BEGIN:VCALENDAR
VERSION:2.0
PRODID:-//5 Bridges Health &amp; Fitness - ECPv6.15.16//NONSGML v1.0//EN
CALSCALE:GREGORIAN
METHOD:PUBLISH
X-WR-CALNAME:5 Bridges Health &amp; Fitness
X-ORIGINAL-URL:https://5bridgeshealthandfitness.com
X-WR-CALDESC:Events for 5 Bridges Health &amp; Fitness
REFRESH-INTERVAL;VALUE=DURATION:PT1H
X-Robots-Tag:noindex
X-PUBLISHED-TTL:PT1H
BEGIN:VTIMEZONE
TZID:America/New_York
BEGIN:DAYLIGHT
TZOFFSETFROM:-0500
TZOFFSETTO:-0400
TZNAME:EDT
DTSTART:20250309T070000
END:DAYLIGHT
BEGIN:STANDARD
TZOFFSETFROM:-0400
TZOFFSETTO:-0500
TZNAME:EST
DTSTART:20251102T060000
END:STANDARD
BEGIN:DAYLIGHT
TZOFFSETFROM:-0500
TZOFFSETTO:-0400
TZNAME:EDT
DTSTART:20260308T070000
END:DAYLIGHT
BEGIN:STANDARD
TZOFFSETFROM:-0400
TZOFFSETTO:-0500
TZNAME:EST
DTSTART:20261101T060000
END:STANDARD
BEGIN:DAYLIGHT
TZOFFSETFROM:-0500
TZOFFSETTO:-0400
TZNAME:EDT
DTSTART:20270314T070000
END:DAYLIGHT
BEGIN:STANDARD
TZOFFSETFROM:-0400
TZOFFSETTO:-0500
TZNAME:EST
DTSTART:20271107T060000
END:STANDARD
END:VTIMEZONE
BEGIN:VEVENT
DTSTART;TZID=America/New_York:20260423T100000
DTEND;TZID=America/New_York:20260423T105500
DTSTAMP:20260421T202301
CREATED:20250726T204207Z
LAST-MODIFIED:20260326T171620Z
UID:10022382-1776938400-1776941700@5bridgeshealthandfitness.com
SUMMARY:SS Classic
DESCRIPTION:
URL:https://5bridgeshealthandfitness.com/class-schedule/ss-classic-6-2/2026-04-23/
CATEGORIES:55+ Boomers & Beyond
END:VEVENT
BEGIN:VEVENT
DTSTART;TZID=America/New_York:20260427T101500
DTEND;TZID=America/New_York:20260427T110000
DTSTAMP:20260421T202301
CREATED:20260224T205041Z
LAST-MODIFIED:20260326T144706Z
UID:10022352-1777284900-1777287600@5bridgeshealthandfitness.com
SUMMARY:Zumba Gold XP
DESCRIPTION:
URL:https://5bridgeshealthandfitness.com/class-schedule/zumba-gold-xp-3/2026-04-27/
CATEGORIES:Cardio
END:VEVENT
BEGIN:VEVENT
DTSTART;TZID=America/New_York:20260427T111500
DTEND;TZID=America/New_York:20260427T121000
DTSTAMP:20260421T202301
CREATED:20260224T210104Z
LAST-MODIFIED:20260326T131713Z
UID:10022284-1777288500-1777291800@5bridgeshealthandfitness.com
SUMMARY:Gentle Yoga
DESCRIPTION:
URL:https://5bridgeshealthandfitness.com/class-schedule/gentle-yoga-6/2026-04-27/
CATEGORIES:Yoga
END:VEVENT
BEGIN:VEVENT
DTSTART;TZID=America/New_York:20260428T100000
DTEND;TZID=America/New_York:20260428T105500
DTSTAMP:20260421T202301
CREATED:20241224T163935Z
LAST-MODIFIED:20260326T140516Z
UID:10022321-1777370400-1777373700@5bridgeshealthandfitness.com
SUMMARY:Senior Circuit
DESCRIPTION:
URL:https://5bridgeshealthandfitness.com/class-schedule/senior-circuit-5/2026-04-28/
CATEGORIES:55+ Boomers & Beyond
END:VEVENT
BEGIN:VEVENT
DTSTART;TZID=America/New_York:20260428T111500
DTEND;TZID=America/New_York:20260428T121000
DTSTAMP:20260421T202301
CREATED:20241224T195952Z
LAST-MODIFIED:20260326T140856Z
UID:10022326-1777374900-1777378200@5bridgeshealthandfitness.com
SUMMARY:Senior Yoga
DESCRIPTION:
URL:https://5bridgeshealthandfitness.com/class-schedule/senior-yoga-5/2026-04-28/
CATEGORIES:Yoga
END:VEVENT
BEGIN:VEVENT
DTSTART;TZID=America/New_York:20260430T100000
DTEND;TZID=America/New_York:20260430T131620
DTSTAMP:20260421T202301
CREATED:20250726T204207Z
LAST-MODIFIED:20260326T171620Z
UID:10022383-1777543200-1777554980@5bridgeshealthandfitness.com
SUMMARY:SS Classic
DESCRIPTION:
URL:https://5bridgeshealthandfitness.com/class-schedule/ss-classic-6-2/2026-04-30/
CATEGORIES:55+ Boomers & Beyond
END:VEVENT
END:VCALENDAR