BEGIN:VCALENDAR
VERSION:2.0
PRODID:-//5 Bridges Health &amp; Fitness - ECPv6.15.16//NONSGML v1.0//EN
CALSCALE:GREGORIAN
METHOD:PUBLISH
X-WR-CALNAME:5 Bridges Health &amp; Fitness
X-ORIGINAL-URL:https://5bridgeshealthandfitness.com
X-WR-CALDESC:Events for 5 Bridges Health &amp; Fitness
REFRESH-INTERVAL;VALUE=DURATION:PT1H
X-Robots-Tag:noindex
X-PUBLISHED-TTL:PT1H
BEGIN:VTIMEZONE
TZID:America/New_York
BEGIN:DAYLIGHT
TZOFFSETFROM:-0500
TZOFFSETTO:-0400
TZNAME:EDT
DTSTART:20250309T070000
END:DAYLIGHT
BEGIN:STANDARD
TZOFFSETFROM:-0400
TZOFFSETTO:-0500
TZNAME:EST
DTSTART:20251102T060000
END:STANDARD
BEGIN:DAYLIGHT
TZOFFSETFROM:-0500
TZOFFSETTO:-0400
TZNAME:EDT
DTSTART:20260308T070000
END:DAYLIGHT
BEGIN:STANDARD
TZOFFSETFROM:-0400
TZOFFSETTO:-0500
TZNAME:EST
DTSTART:20261101T060000
END:STANDARD
BEGIN:DAYLIGHT
TZOFFSETFROM:-0500
TZOFFSETTO:-0400
TZNAME:EDT
DTSTART:20270314T070000
END:DAYLIGHT
BEGIN:STANDARD
TZOFFSETFROM:-0400
TZOFFSETTO:-0500
TZNAME:EST
DTSTART:20271107T060000
END:STANDARD
END:VTIMEZONE
BEGIN:VEVENT
DTSTART;TZID=America/New_York:20260424T090000
DTEND;TZID=America/New_York:20260424T095500
DTSTAMP:20260420T201022
CREATED:20260224T204448Z
LAST-MODIFIED:20260326T141719Z
UID:10022337-1777021200-1777024500@5bridgeshealthandfitness.com
SUMMARY:Zumba
DESCRIPTION:
URL:https://5bridgeshealthandfitness.com/class-schedule/zumba-3/2026-04-24/
CATEGORIES:Cardio
END:VEVENT
BEGIN:VEVENT
DTSTART;TZID=America/New_York:20260427T090000
DTEND;TZID=America/New_York:20260427T095500
DTSTAMP:20260420T201022
CREATED:20260224T204448Z
LAST-MODIFIED:20260326T141719Z
UID:10022338-1777280400-1777283700@5bridgeshealthandfitness.com
SUMMARY:Zumba
DESCRIPTION:
URL:https://5bridgeshealthandfitness.com/class-schedule/zumba-3/2026-04-27/
CATEGORIES:Cardio
END:VEVENT
END:VCALENDAR